BEGIN:VCALENDAR
VERSION:2.0
PRODID:-//Tri-Cities Pride Society - ECPv6.15.14//NONSGML v1.0//EN
CALSCALE:GREGORIAN
METHOD:PUBLISH
X-WR-CALNAME:Tri-Cities Pride Society
X-ORIGINAL-URL:https://tricitiespride.ca
X-WR-CALDESC:Events for Tri-Cities Pride Society
REFRESH-INTERVAL;VALUE=DURATION:PT1H
X-Robots-Tag:noindex
X-PUBLISHED-TTL:PT1H
BEGIN:VTIMEZONE
TZID:America/Vancouver
BEGIN:DAYLIGHT
TZOFFSETFROM:-0800
TZOFFSETTO:-0700
TZNAME:PDT
DTSTART:20240310T100000
END:DAYLIGHT
BEGIN:STANDARD
TZOFFSETFROM:-0700
TZOFFSETTO:-0800
TZNAME:PST
DTSTART:20241103T090000
END:STANDARD
BEGIN:DAYLIGHT
TZOFFSETFROM:-0800
TZOFFSETTO:-0700
TZNAME:PDT
DTSTART:20250309T100000
END:DAYLIGHT
BEGIN:STANDARD
TZOFFSETFROM:-0700
TZOFFSETTO:-0800
TZNAME:PST
DTSTART:20251102T090000
END:STANDARD
BEGIN:DAYLIGHT
TZOFFSETFROM:-0800
TZOFFSETTO:-0700
TZNAME:PDT
DTSTART:20260308T100000
END:DAYLIGHT
BEGIN:STANDARD
TZOFFSETFROM:-0700
TZOFFSETTO:-0800
TZNAME:PST
DTSTART:20261101T090000
END:STANDARD
END:VTIMEZONE
BEGIN:VEVENT
DTSTART;TZID=America/Vancouver:20250507T180000
DTEND;TZID=America/Vancouver:20250507T193000
DTSTAMP:20260419T074440
CREATED:20250415T224034Z
LAST-MODIFIED:20250415T224034Z
UID:1724-1746640800-1746646200@tricitiespride.ca
SUMMARY:Westcoast Family Centres: Prideful Parenting Meetup
DESCRIPTION:For parents with similar dynamics of family in the LGBTQ+ community. Casual meet and greet with children and parents. Children aged 0-6 years old. Light refreshments served. \nPlease RSVP by emailing amy.carreiro@westcoastfamily.org \nMore information at https://www.facebook.com/WestcoastFamilyCentres/photos/join-us-for-prideful-parenting-%EF%B8%8Ffor-parents-with-similar-dynamics-of-family-in-t/1098897952275811/?_rdr
URL:https://tricitiespride.ca/event/westcoast-family-centres-prideful-parenting-meetup/
CATEGORIES:Partner Event
ATTACH;FMTTYPE=image/jpeg:https://tricitiespride.ca/wp-content/uploads/2025/04/Prideful-Parenting-Meetup-May-7-2025_small.jpg
END:VEVENT
END:VCALENDAR