BEGIN:VCALENDAR
VERSION:2.0
PRODID:-//Tri-Cities Pride Society - ECPv6.15.14//NONSGML v1.0//EN
CALSCALE:GREGORIAN
METHOD:PUBLISH
X-ORIGINAL-URL:https://tricitiespride.ca
X-WR-CALDESC:Events for Tri-Cities Pride Society
REFRESH-INTERVAL;VALUE=DURATION:PT1H
X-Robots-Tag:noindex
X-PUBLISHED-TTL:PT1H
BEGIN:VTIMEZONE
TZID:America/Vancouver
BEGIN:DAYLIGHT
TZOFFSETFROM:-0800
TZOFFSETTO:-0700
TZNAME:PDT
DTSTART:20240310T100000
END:DAYLIGHT
BEGIN:STANDARD
TZOFFSETFROM:-0700
TZOFFSETTO:-0800
TZNAME:PST
DTSTART:20241103T090000
END:STANDARD
BEGIN:DAYLIGHT
TZOFFSETFROM:-0800
TZOFFSETTO:-0700
TZNAME:PDT
DTSTART:20250309T100000
END:DAYLIGHT
BEGIN:STANDARD
TZOFFSETFROM:-0700
TZOFFSETTO:-0800
TZNAME:PST
DTSTART:20251102T090000
END:STANDARD
BEGIN:DAYLIGHT
TZOFFSETFROM:-0800
TZOFFSETTO:-0700
TZNAME:PDT
DTSTART:20260308T100000
END:DAYLIGHT
BEGIN:STANDARD
TZOFFSETFROM:-0700
TZOFFSETTO:-0800
TZNAME:PST
DTSTART:20261101T090000
END:STANDARD
END:VTIMEZONE
BEGIN:VEVENT
DTSTART;TZID=America/Vancouver:20250502T153000
DTEND;TZID=America/Vancouver:20250502T163000
DTSTAMP:20260423T012355
CREATED:20250414T181523Z
LAST-MODIFIED:20250619T162810Z
UID:1673-1746199800-1746203400@tricitiespride.ca
SUMMARY:Pride and Allies Book Club
DESCRIPTION:TCPS Event: Join us for our Pride and Allies Book Club meeting\, Friday May 2 from 3:30-4:30pm at the Coquitlam Public Library\, City Centre branch! We’ll be reading “The Guncle” by Steven Rowley\, and you can get find copies at the library 🙂 Looking forward to seeing you there! \nWinner of the Thurber Prize for American Humor\, National Bestseller\, Wall Street Journal Bestseller\, USA Today Bestseller\, NPR Book of the Year\, and Finalist for 2021 Goodreads Choice Awards! \nhttps://www.coqlibrary.ca/borrow-and-stream/book-club-sets/book-club-programs/pride-allies-book-club
URL:https://tricitiespride.ca/event/pride-and-allies-book-club/
LOCATION:British Columbia
CATEGORIES:TCPS Program
ATTACH;FMTTYPE=image/png:https://tricitiespride.ca/wp-content/uploads/2025/04/Pride-and-Allies-Book-club-Instagram-Post.png
END:VEVENT
BEGIN:VEVENT
DTSTART;TZID=America/Vancouver:20250503T130000
DTEND;TZID=America/Vancouver:20250503T140000
DTSTAMP:20260423T012355
CREATED:20250414T211136Z
LAST-MODIFIED:20250619T162533Z
UID:1684-1746277200-1746280800@tricitiespride.ca
SUMMARY:Out and About Walk
DESCRIPTION:TCPS Event: Join us for a walk around Lafarge Lake\, on Saturday May 3 from 1-2pm! We’ll meet just outside the Praugery at Town Centre Park Community Centre\, and we often do two laps of the lake. Drop by and meet some new friends! Free\, all ages welcome (please if you are under 12 bring an adult!)\, and friendly dog friendly 🙂
URL:https://tricitiespride.ca/event/out-and-about-walk/
LOCATION:British Columbia
CATEGORIES:TCPS Program
ATTACH;FMTTYPE=image/png:https://tricitiespride.ca/wp-content/uploads/2025/04/Out-and-about.png
END:VEVENT
BEGIN:VEVENT
DTSTART;TZID=America/Vancouver:20250531T140000
DTEND;TZID=America/Vancouver:20250531T160000
DTSTAMP:20260423T012355
CREATED:20250506T051604Z
LAST-MODIFIED:20250619T162543Z
UID:1901-1748700000-1748707200@tricitiespride.ca
SUMMARY:Crafty Queers
DESCRIPTION:Join us for an afternoon of crafting and conversation\, hosted by GOLDbard. Bring your own project\, or use the art supplies GOLDbard has on hand. We will have tea and snacks\, feel free to bring a snack to share.\nLast Saturday of the month from 2-4pm\nMay location:\nMultipurpose Room 3\, Port Moody Recreation Complex\nReserve your free ticket through Eventbrite! \n 
URL:https://tricitiespride.ca/event/crafty-queers/
LOCATION:British Columbia
CATEGORIES:TCPS Program
ATTACH;FMTTYPE=image/jpeg:https://tricitiespride.ca/wp-content/uploads/2025/05/crafty-queers-logo.jpg
END:VEVENT
END:VCALENDAR