BEGIN:VCALENDAR
VERSION:2.0
PRODID:-//Tri-Cities Pride Society - ECPv6.15.14//NONSGML v1.0//EN
CALSCALE:GREGORIAN
METHOD:PUBLISH
X-ORIGINAL-URL:https://tricitiespride.ca
X-WR-CALDESC:Events for Tri-Cities Pride Society
REFRESH-INTERVAL;VALUE=DURATION:PT1H
X-Robots-Tag:noindex
X-PUBLISHED-TTL:PT1H
BEGIN:VTIMEZONE
TZID:America/Vancouver
BEGIN:DAYLIGHT
TZOFFSETFROM:-0800
TZOFFSETTO:-0700
TZNAME:PDT
DTSTART:20240310T100000
END:DAYLIGHT
BEGIN:STANDARD
TZOFFSETFROM:-0700
TZOFFSETTO:-0800
TZNAME:PST
DTSTART:20241103T090000
END:STANDARD
BEGIN:DAYLIGHT
TZOFFSETFROM:-0800
TZOFFSETTO:-0700
TZNAME:PDT
DTSTART:20250309T100000
END:DAYLIGHT
BEGIN:STANDARD
TZOFFSETFROM:-0700
TZOFFSETTO:-0800
TZNAME:PST
DTSTART:20251102T090000
END:STANDARD
BEGIN:DAYLIGHT
TZOFFSETFROM:-0800
TZOFFSETTO:-0700
TZNAME:PDT
DTSTART:20260308T100000
END:DAYLIGHT
BEGIN:STANDARD
TZOFFSETFROM:-0700
TZOFFSETTO:-0800
TZNAME:PST
DTSTART:20261101T090000
END:STANDARD
END:VTIMEZONE
BEGIN:VEVENT
DTSTART;TZID=America/Vancouver:20250607T130000
DTEND;TZID=America/Vancouver:20250607T140000
DTSTAMP:20260422T235054
CREATED:20250417T215023Z
LAST-MODIFIED:20250619T162525Z
UID:1750-1749301200-1749304800@tricitiespride.ca
SUMMARY:Out and About Walk
DESCRIPTION:TCPS Event: Join us for a walk around Lafarge Lake\, on Saturday May 3 from 1-2pm! We’ll meet just outside the Praugery at Town Centre Park Community Centre\, and we often do two laps of the lake. Drop by and meet some new friends! Free\, all ages welcome (please if you are under 12 bring an adult!)\, and friendly dog friendly 🙂
URL:https://tricitiespride.ca/event/out-and-about-walk-2/
LOCATION:British Columbia
CATEGORIES:TCPS Program
ATTACH;FMTTYPE=image/png:https://tricitiespride.ca/wp-content/uploads/2025/04/Out-and-about.png
END:VEVENT
BEGIN:VEVENT
DTSTART;TZID=America/Vancouver:20250613T153000
DTEND;TZID=America/Vancouver:20250613T163000
DTSTAMP:20260422T235054
CREATED:20250417T180651Z
LAST-MODIFIED:20250619T162651Z
UID:1731-1749828600-1749832200@tricitiespride.ca
SUMMARY:Pride and Allies Book Club
DESCRIPTION:TCPS Event: Join us for our Pride and Allies Book Club meeting\, Friday May 2 from 3:30-4:30pm at the Coquitlam Public Library\, City Centre branch! \nThis month we’re reading “The Parcel” by Anosh Irani\, a finalist for the Writers’ Trust Fiction Prize and for the Governor General’s Literary Award. Check out the description on Goodreads! \n 
URL:https://tricitiespride.ca/event/pride-and-allies-book-club-2/
LOCATION:British Columbia
CATEGORIES:TCPS Program
ATTACH;FMTTYPE=image/png:https://tricitiespride.ca/wp-content/uploads/2025/04/Pride-and-Allies-Book-club-Instagram-Post.png
END:VEVENT
BEGIN:VEVENT
DTSTART;TZID=America/Vancouver:20250628T140000
DTEND;TZID=America/Vancouver:20250628T160000
DTSTAMP:20260422T235054
CREATED:20250506T052120Z
LAST-MODIFIED:20250619T162606Z
UID:1905-1751119200-1751126400@tricitiespride.ca
SUMMARY:Crafty Queers
DESCRIPTION:Join us for an afternoon of crafting and conversation\, hosted by GOLDbard. Bring your own project\, or use the art supplies GOLDbard has on hand. We will have tea and snacks\, feel free to bring a snack to share.\nLast Saturday of the month from 2-4pm\nJune Location:\nCoquitlam Public Library\, City Centre Branch\, Room 127\nBook your free ticket through Eventbrite!
URL:https://tricitiespride.ca/event/crafty-queers-2/
LOCATION:British Columbia
CATEGORIES:TCPS Program
ATTACH;FMTTYPE=image/jpeg:https://tricitiespride.ca/wp-content/uploads/2025/05/crafty-queers-logo.jpg
END:VEVENT
END:VCALENDAR