BEGIN:VCALENDAR
VERSION:2.0
PRODID:-//Tri-Cities Pride Society - ECPv6.15.14//NONSGML v1.0//EN
CALSCALE:GREGORIAN
METHOD:PUBLISH
X-ORIGINAL-URL:https://tricitiespride.ca
X-WR-CALDESC:Events for Tri-Cities Pride Society
REFRESH-INTERVAL;VALUE=DURATION:PT1H
X-Robots-Tag:noindex
X-PUBLISHED-TTL:PT1H
BEGIN:VTIMEZONE
TZID:America/Vancouver
BEGIN:DAYLIGHT
TZOFFSETFROM:-0800
TZOFFSETTO:-0700
TZNAME:PDT
DTSTART:20240310T100000
END:DAYLIGHT
BEGIN:STANDARD
TZOFFSETFROM:-0700
TZOFFSETTO:-0800
TZNAME:PST
DTSTART:20241103T090000
END:STANDARD
BEGIN:DAYLIGHT
TZOFFSETFROM:-0800
TZOFFSETTO:-0700
TZNAME:PDT
DTSTART:20250309T100000
END:DAYLIGHT
BEGIN:STANDARD
TZOFFSETFROM:-0700
TZOFFSETTO:-0800
TZNAME:PST
DTSTART:20251102T090000
END:STANDARD
BEGIN:DAYLIGHT
TZOFFSETFROM:-0800
TZOFFSETTO:-0700
TZNAME:PDT
DTSTART:20260308T100000
END:DAYLIGHT
BEGIN:STANDARD
TZOFFSETFROM:-0700
TZOFFSETTO:-0800
TZNAME:PST
DTSTART:20261101T090000
END:STANDARD
END:VTIMEZONE
BEGIN:VEVENT
DTSTART;TZID=America/Vancouver:20250924T190000
DTEND;TZID=America/Vancouver:20250924T200000
DTSTAMP:20260422T181750
CREATED:20250924T011051Z
LAST-MODIFIED:20250924T011051Z
UID:2302-1758740400-1758744000@tricitiespride.ca
SUMMARY:Pride and Allies book club
DESCRIPTION:Join us for our monthly Pride and Allies Book Club\, where we read and discuss literature by and/or starring folks from the 2S/LGBTQIA+ community! This month we’re reading “Learned by Heart” by Emma Donoghue\, a heartwarming piece of historical fiction following the story of two young women in love. \n 
URL:https://tricitiespride.ca/event/pride-and-allies-book-club-3/
LOCATION:Coquitlam Public Library\, City Centre Branch\, 1169 Pinetree Way\, Coquitlam\, BC\, V3B 0Y1\, Canada
CATEGORIES:TCPS Program
ATTACH;FMTTYPE=image/png:https://tricitiespride.ca/wp-content/uploads/2025/09/Book-club-Oct-2024_20250923_175947_0000.png
END:VEVENT
BEGIN:VEVENT
DTSTART;TZID=America/Vancouver:20250927T140000
DTEND;TZID=America/Vancouver:20250927T160000
DTSTAMP:20260422T181750
CREATED:20250924T011549Z
LAST-MODIFIED:20250924T011549Z
UID:2305-1758981600-1758988800@tricitiespride.ca
SUMMARY:Crafty Queers
DESCRIPTION:Crafty Queers is back! \nThis fall the location is at GOLDbard’s home in Port Moody\, so registration will be limited to 9 folks. Eventbrite link will be posted shortly\, or email us if you’re interested!
URL:https://tricitiespride.ca/event/crafty-queers-4/
LOCATION:British Columbia
CATEGORIES:TCPS Program
ATTACH;FMTTYPE=image/png:https://tricitiespride.ca/wp-content/uploads/2025/09/Screenshot_20250923-181303.png
END:VEVENT
END:VCALENDAR