BEGIN:VCALENDAR
VERSION:2.0
PRODID:-//Tri-Cities Pride Society - ECPv6.15.14//NONSGML v1.0//EN
CALSCALE:GREGORIAN
METHOD:PUBLISH
X-ORIGINAL-URL:https://tricitiespride.ca
X-WR-CALDESC:Events for Tri-Cities Pride Society
REFRESH-INTERVAL;VALUE=DURATION:PT1H
X-Robots-Tag:noindex
X-PUBLISHED-TTL:PT1H
BEGIN:VTIMEZONE
TZID:America/Vancouver
BEGIN:DAYLIGHT
TZOFFSETFROM:-0800
TZOFFSETTO:-0700
TZNAME:PDT
DTSTART:20250309T100000
END:DAYLIGHT
BEGIN:STANDARD
TZOFFSETFROM:-0700
TZOFFSETTO:-0800
TZNAME:PST
DTSTART:20251102T090000
END:STANDARD
BEGIN:DAYLIGHT
TZOFFSETFROM:-0800
TZOFFSETTO:-0700
TZNAME:PDT
DTSTART:20260308T100000
END:DAYLIGHT
BEGIN:STANDARD
TZOFFSETFROM:-0700
TZOFFSETTO:-0800
TZNAME:PST
DTSTART:20261101T090000
END:STANDARD
BEGIN:DAYLIGHT
TZOFFSETFROM:-0800
TZOFFSETTO:-0700
TZNAME:PDT
DTSTART:20270314T100000
END:DAYLIGHT
BEGIN:STANDARD
TZOFFSETFROM:-0700
TZOFFSETTO:-0800
TZNAME:PST
DTSTART:20271107T090000
END:STANDARD
END:VTIMEZONE
BEGIN:VEVENT
DTSTART;TZID=America/Vancouver:20260120T190000
DTEND;TZID=America/Vancouver:20260120T200000
DTSTAMP:20260420T035520
CREATED:20260113T185048Z
LAST-MODIFIED:20260113T185048Z
UID:2445-1768935600-1768939200@tricitiespride.ca
SUMMARY:Out and About - Weekday Edition!
DESCRIPTION:Out and About: Weekday Edition\nDate & Time: Tuesday\, January 20 @ 7 – 8PM\nLocation: Lafarge Lake\, Coquitlam \nOur monthly Out and About Walk around Lafarge has become so popular on weekends\, we’ve added on a second\, weekday walk! \nOn the third Tuesday of the month\, Join us to enjoy a couple of laps around the lake loop and some casual conversation. This is a great event for anyone who wants to meet new people\, explore local spaces\, or add some more movement to their routine in 2026. As a bonus\, we’ll still be able to enjoy the final days of Lights at Lafarge. We usually do a few laps of Lafarge Lake\, and if your dog is friendly they are welcome to join us as well. \nMeet our awesome program lead\, Morgan\, in front of The Praugery at Town Centre Park Community Centre. This event is free\, no registration required. Friendly\, leashed dogs are also welcome to join us.
URL:https://tricitiespride.ca/event/out-and-about-weekday-jan-2026/
LOCATION:Lake Lafarge\, 1251 Pinetree Way\, Coquitlam\, British Columbia\, V3B 7Z4\, Canada
CATEGORIES:TCPS Program
ATTACH;FMTTYPE=image/png:https://tricitiespride.ca/wp-content/uploads/2026/01/2026_Jan-Out-About_Weekday.png
END:VEVENT
END:VCALENDAR