BEGIN:VCALENDAR
VERSION:2.0
PRODID:-//Tri-Cities Pride Society - ECPv6.15.14//NONSGML v1.0//EN
CALSCALE:GREGORIAN
METHOD:PUBLISH
X-ORIGINAL-URL:https://tricitiespride.ca
X-WR-CALDESC:Events for Tri-Cities Pride Society
REFRESH-INTERVAL;VALUE=DURATION:PT1H
X-Robots-Tag:noindex
X-PUBLISHED-TTL:PT1H
BEGIN:VTIMEZONE
TZID:America/Vancouver
BEGIN:DAYLIGHT
TZOFFSETFROM:-0800
TZOFFSETTO:-0700
TZNAME:PDT
DTSTART:20240310T100000
END:DAYLIGHT
BEGIN:STANDARD
TZOFFSETFROM:-0700
TZOFFSETTO:-0800
TZNAME:PST
DTSTART:20241103T090000
END:STANDARD
BEGIN:DAYLIGHT
TZOFFSETFROM:-0800
TZOFFSETTO:-0700
TZNAME:PDT
DTSTART:20250309T100000
END:DAYLIGHT
BEGIN:STANDARD
TZOFFSETFROM:-0700
TZOFFSETTO:-0800
TZNAME:PST
DTSTART:20251102T090000
END:STANDARD
BEGIN:DAYLIGHT
TZOFFSETFROM:-0800
TZOFFSETTO:-0700
TZNAME:PDT
DTSTART:20260308T100000
END:DAYLIGHT
BEGIN:STANDARD
TZOFFSETFROM:-0700
TZOFFSETTO:-0800
TZNAME:PST
DTSTART:20261101T090000
END:STANDARD
END:VTIMEZONE
BEGIN:VEVENT
DTSTART;TZID=America/Vancouver:20250531T140000
DTEND;TZID=America/Vancouver:20250531T160000
DTSTAMP:20260423T025504
CREATED:20250506T051604Z
LAST-MODIFIED:20250619T162543Z
UID:1901-1748700000-1748707200@tricitiespride.ca
SUMMARY:Crafty Queers
DESCRIPTION:Join us for an afternoon of crafting and conversation\, hosted by GOLDbard. Bring your own project\, or use the art supplies GOLDbard has on hand. We will have tea and snacks\, feel free to bring a snack to share.\nLast Saturday of the month from 2-4pm\nMay location:\nMultipurpose Room 3\, Port Moody Recreation Complex\nReserve your free ticket through Eventbrite! \n 
URL:https://tricitiespride.ca/event/crafty-queers/
LOCATION:British Columbia
CATEGORIES:TCPS Program
ATTACH;FMTTYPE=image/jpeg:https://tricitiespride.ca/wp-content/uploads/2025/05/crafty-queers-logo.jpg
END:VEVENT
END:VCALENDAR