BEGIN:VCALENDAR
VERSION:2.0
PRODID:-//Tri-Cities Pride Society - ECPv6.15.14//NONSGML v1.0//EN
CALSCALE:GREGORIAN
METHOD:PUBLISH
X-ORIGINAL-URL:https://tricitiespride.ca
X-WR-CALDESC:Events for Tri-Cities Pride Society
REFRESH-INTERVAL;VALUE=DURATION:PT1H
X-Robots-Tag:noindex
X-PUBLISHED-TTL:PT1H
BEGIN:VTIMEZONE
TZID:America/Vancouver
BEGIN:DAYLIGHT
TZOFFSETFROM:-0800
TZOFFSETTO:-0700
TZNAME:PDT
DTSTART:20240310T100000
END:DAYLIGHT
BEGIN:STANDARD
TZOFFSETFROM:-0700
TZOFFSETTO:-0800
TZNAME:PST
DTSTART:20241103T090000
END:STANDARD
BEGIN:DAYLIGHT
TZOFFSETFROM:-0800
TZOFFSETTO:-0700
TZNAME:PDT
DTSTART:20250309T100000
END:DAYLIGHT
BEGIN:STANDARD
TZOFFSETFROM:-0700
TZOFFSETTO:-0800
TZNAME:PST
DTSTART:20251102T090000
END:STANDARD
BEGIN:DAYLIGHT
TZOFFSETFROM:-0800
TZOFFSETTO:-0700
TZNAME:PDT
DTSTART:20260308T100000
END:DAYLIGHT
BEGIN:STANDARD
TZOFFSETFROM:-0700
TZOFFSETTO:-0800
TZNAME:PST
DTSTART:20261101T090000
END:STANDARD
END:VTIMEZONE
BEGIN:VEVENT
DTSTART;TZID=America/Vancouver:20251029T190000
DTEND;TZID=America/Vancouver:20251029T220000
DTSTAMP:20260422T161834
CREATED:20251012T003011Z
LAST-MODIFIED:20251012T003011Z
UID:2334-1761764400-1761775200@tricitiespride.ca
SUMMARY:Queers and Beers Tricities
DESCRIPTION:🌈 Exciting news! 🍻 \nStarting October 29th\, we’re launching Queers & Beers\, a monthly hangout for LGBTQIA2S+ folks and friends at The Parkside Brewery! \n🗓️ When: Last Wednesday of every month \n🕖 Time: 7–10 PM \n📍 Where: The Parkside Brewery\, Port Moody \nBring a friend\, or make a new one over a pint! 🍺 \nNo cost to attend\, and you get 15% off pints for the evening!
URL:https://tricitiespride.ca/event/queers-and-beers-tricities/
LOCATION:Parkside Brewery\, 2731 Murray St\, Port Moody\, BC\, Canada
CATEGORIES:TCPS Program
ATTACH;FMTTYPE=image/jpeg:https://tricitiespride.ca/wp-content/uploads/2025/10/FB_IMG_1760228722186.jpg
END:VEVENT
END:VCALENDAR